BEGIN:VCALENDAR
VERSION:2.0
PRODID:-//Buró de Convenciones de Guatemala - ECPv6.13.0//NONSGML v1.0//EN
CALSCALE:GREGORIAN
METHOD:PUBLISH
X-ORIGINAL-URL:https://guatemalacvb.com/en/
X-WR-CALDESC:Events for Buró de Convenciones de Guatemala
REFRESH-INTERVAL;VALUE=DURATION:PT1H
X-Robots-Tag:noindex
X-PUBLISHED-TTL:PT1H
BEGIN:VTIMEZONE
TZID:UTC
BEGIN:STANDARD
TZOFFSETFROM:+0000
TZOFFSETTO:+0000
TZNAME:UTC
DTSTART:20180101T000000
END:STANDARD
END:VTIMEZONE
BEGIN:VEVENT
DTSTART;VALUE=DATE:20180903
DTEND;VALUE=DATE:20180906
DTSTAMP:20260425T061209
CREATED:20180809T003756Z
LAST-MODIFIED:20180809T003756Z
UID:13260-1535932800-1536191999@guatemalacvb.com
SUMMARY:FERIA ALIMENTARIA 2018
DESCRIPTION:La feria de alimentos y bebidas más importante de Centroamérica se realizará del 3 al 5 de septiembre en el Centro de Exposiciones del Grand Tikal Futura Hotel de la ciudad de Guatemala. Este es un esfuerzo conjunto de varias entidades como\,  Cámara  de  Industria  de  Guatemala -CIG-\, el  Instituto  Guatemalteco  de  Turismo –INGUAT-\, Gremial de Restaurantes\, Universidad Rafael Landivar –URL-\, Instituto Técnico de Capacitación y Productividad –INTECAP-\, Club Rotario Guatemala del Este y como empresa encargada de la comercialización y logística Corpoeventos. Se espera cerca de 14.000 visitantes  y centenares de empresas expositoras que darán a conocer alrededor de 8.000 productos.   \n \nQué encontraremos:\n\nExposición de oferta de servicios y productos para la industria de los alimentos\, bebidas y restaurantes.\nProfesionalización del capital humano de este sector entendiendo mandos gerenciales\, personal técnico y operativo\, y los especialistas de la cocina\, chefs  cocineros\,  sommelier\, bartenders\, baristas y todos los colaboradores en la cadena de producción y distribución.\nReconocer a los mejores en cada rama de especialización a través de concursos\, competencias\, o demostraciones.\nDesarrollar una vasta labor de RESPONSABILIDAD SOCIAL EMPRESARIAL comprometidos a apoyar siempre una causa que la sociedad requiera y que la organización del evento esté comprometida a apoyar.\n\nMayor información:  https://feriaalimentaria.com/main.asp?clc=175\,   Teléfono: (502) 2367-5055 y 56\, mercadeo@corpoeventos.net
URL:https://guatemalacvb.com/en/event/feria-alimentaria-2018/
ATTACH;FMTTYPE=:
END:VEVENT
END:VCALENDAR