BEGIN:VCALENDAR
VERSION:2.0
PRODID:-//Buró de Convenciones de Guatemala - ECPv6.13.0//NONSGML v1.0//EN
CALSCALE:GREGORIAN
METHOD:PUBLISH
X-WR-CALNAME:Buró de Convenciones de Guatemala
X-ORIGINAL-URL:https://guatemalacvb.com/en/
X-WR-CALDESC:Events for Buró de Convenciones de Guatemala
REFRESH-INTERVAL;VALUE=DURATION:PT1H
X-Robots-Tag:noindex
X-PUBLISHED-TTL:PT1H
BEGIN:VTIMEZONE
TZID:America/Guatemala
BEGIN:STANDARD
TZOFFSETFROM:-0600
TZOFFSETTO:-0600
TZNAME:CST
DTSTART:20180101T000000
END:STANDARD
END:VTIMEZONE
BEGIN:VEVENT
DTSTART;VALUE=DATE:20180919
DTEND;VALUE=DATE:20180921
DTSTAMP:20260421T181533
CREATED:20180910T204230Z
LAST-MODIFIED:20180910T204230Z
UID:13267-1537315200-1537487999@guatemalacvb.com
SUMMARY:II FERIA DE LA INDUSTRIA GRÁFICA Y PUBLICITARIA EN GUATEMALA
DESCRIPTION:Fecha: 19 y 20 de septiembre 2018 \n\nMás información: www.todoticket.com
URL:https://guatemalacvb.com/en/event/ii-feria-de-la-industria-grafica-y-publicitaria-en-guatemala/
ATTACH;FMTTYPE=:
END:VEVENT
END:VCALENDAR