BEGIN:VCALENDAR
VERSION:2.0
PRODID:-//Buró de Convenciones de Guatemala - ECPv6.13.0//NONSGML v1.0//EN
CALSCALE:GREGORIAN
METHOD:PUBLISH
X-WR-CALNAME:Buró de Convenciones de Guatemala
X-ORIGINAL-URL:https://guatemalacvb.com/en/
X-WR-CALDESC:Events for Buró de Convenciones de Guatemala
REFRESH-INTERVAL;VALUE=DURATION:PT1H
X-Robots-Tag:noindex
X-PUBLISHED-TTL:PT1H
BEGIN:VTIMEZONE
TZID:America/Guatemala
BEGIN:STANDARD
TZOFFSETFROM:-0600
TZOFFSETTO:-0600
TZNAME:CST
DTSTART:20180101T000000
END:STANDARD
END:VTIMEZONE
BEGIN:VEVENT
DTSTART;VALUE=DATE:20181011
DTEND;VALUE=DATE:20181012
DTSTAMP:20260425T145335
CREATED:20181003T150402Z
LAST-MODIFIED:20181003T150402Z
UID:13275-1539216000-1539302399@guatemalacvb.com
SUMMARY:ENADE 2018
DESCRIPTION:El Encuentro Nacional de Empresarios ENADE es el foro más importante en el país\, organizado de forma anual por FUNDESA. Reúne al sector productivo guatemalteco\, representantes de los tres poderes del Estado\, así como líderes de la sociedad civil y disertantes de carácter mundial\, que exponen alrededor de un tema central. \nFecha: 11 de Octubre 2018 \nHora: 14:00 hrs \nLugar: Hotel Westin Camino Real \nMás información: www.fundesa.org.gt
URL:https://guatemalacvb.com/en/event/enade-2018/
ATTACH;FMTTYPE=:
END:VEVENT
END:VCALENDAR