BEGIN:VCALENDAR
VERSION:2.0
PRODID:-//Buró de Convenciones de Guatemala - ECPv6.13.0//NONSGML v1.0//EN
CALSCALE:GREGORIAN
METHOD:PUBLISH
X-ORIGINAL-URL:https://guatemalacvb.com/en/
X-WR-CALDESC:Events for Buró de Convenciones de Guatemala
REFRESH-INTERVAL;VALUE=DURATION:PT1H
X-Robots-Tag:noindex
X-PUBLISHED-TTL:PT1H
BEGIN:VTIMEZONE
TZID:America/Guatemala
BEGIN:STANDARD
TZOFFSETFROM:-0600
TZOFFSETTO:-0600
TZNAME:CST
DTSTART:20180101T000000
END:STANDARD
END:VTIMEZONE
BEGIN:VEVENT
DTSTART;VALUE=DATE:20181017
DTEND;VALUE=DATE:20181020
DTSTAMP:20260421T144618
CREATED:20180926T150011Z
LAST-MODIFIED:20180926T150011Z
UID:13273-1539734400-1539993599@guatemalacvb.com
SUMMARY:DERMAFEST
DESCRIPTION:
URL:https://guatemalacvb.com/en/event/dermafest/
ATTACH;FMTTYPE=:
END:VEVENT
BEGIN:VEVENT
DTSTART;VALUE=DATE:20181018
DTEND;VALUE=DATE:20181020
DTSTAMP:20260421T144618
CREATED:20181006T152826Z
LAST-MODIFIED:20181006T152826Z
UID:13276-1539820800-1539993599@guatemalacvb.com
SUMMARY:X CONFERENCIA IBEROAMERICANA DE MINISTROS Y MINISTRAS DE TRABAJO Y SEGURIDAD SOCIAL
DESCRIPTION:Los próximos 18 y 19 de octubre se realizará en Guatemala la X Conferencia iberoamericana de Ministros y Ministras de Trabajo y Seguridad Social. El evento será organizado por el Ministerio de Trabajo y Previsión Social de Guatemala\, la Organización Iberoamericana de Seguridad Social y la Secretaría General Iberoamericana y reunirá a las y los ministros representantes de los 22 países de Iberoamérica. \nLas conclusiones de la Conferencia se traducirán en mandatos puntuales escalables a la XXVI Cumbre Iberoamericana de Jefes de Estado y de Gobierno.
URL:https://guatemalacvb.com/en/event/x-conferencia-iberoamericana-de-ministros-y-ministras-de-trabajo-y-seguridad-social/
ATTACH;FMTTYPE=:
END:VEVENT
END:VCALENDAR