BEGIN:VCALENDAR
VERSION:2.0
PRODID:-//Buró de Convenciones de Guatemala - ECPv6.13.0//NONSGML v1.0//EN
CALSCALE:GREGORIAN
METHOD:PUBLISH
X-ORIGINAL-URL:https://guatemalacvb.com/en/
X-WR-CALDESC:Events for Buró de Convenciones de Guatemala
REFRESH-INTERVAL;VALUE=DURATION:PT1H
X-Robots-Tag:noindex
X-PUBLISHED-TTL:PT1H
BEGIN:VTIMEZONE
TZID:America/Guatemala
BEGIN:STANDARD
TZOFFSETFROM:-0600
TZOFFSETTO:-0600
TZNAME:CST
DTSTART:20180101T000000
END:STANDARD
END:VTIMEZONE
BEGIN:VEVENT
DTSTART;VALUE=DATE:20181022
DTEND;VALUE=DATE:20181025
DTSTAMP:20260423T040555
CREATED:20181007T155209Z
LAST-MODIFIED:20181007T155209Z
UID:13277-1540166400-1540425599@guatemalacvb.com
SUMMARY:III FORO IBEROAMERICANO SOBRE MIGRACIÓN Y DESARROLLO
DESCRIPTION:Entre el 22 y el 24 de octubre\, el Gobierno de Guatemala en su calidad de Secretaría Pro Témpore de la XXVI Cumbre Iberoamericana de Jefes de Estado y de Gobierno\, en coordinación con la Organización Internacional para las Migraciones\, la Universidad Rafael Landívar y la Secretaría General Iberoamericana y con el apoyo de la Agencia Española de Cooperación Internacional para el Desarrollo y de la Agencia Mexicana de Cooperación Internacional para el Desarrollo\, convocan al III Foro Iberoamericano de Migración y  Desarrollo: “Migraciones y Desarrollo en el Siglo XXI: Una Agenda Iberoamericana Transformadora”\, que se desarrollará en Guatemala. \nEste foro es un nuevo impulso de los Estados para intercambiar experiencias\, fortalecer el diálogo y la cooperación en materia de migración y desarrollo. Asimismo\, busca debatir los aspectos multidimensionales\, las oportunidades y retos\, y promover acciones prácticas a nivel nacional\, regional y mundial sobre dichos temas. \nDurante el evento se alternarán eventos culturales\, conferencias magistrales y ponencias sobre los ejes temáticos\, además mesas de trabajo con representantes gubernamentales\, representantes de organismos internacionales y personas destacadas del mundo académico para elaborar una serie de propuestas que sean elevadas a la próxima Cumbre Iberoamericana.  
URL:https://guatemalacvb.com/en/event/iii-foro-iberoamericano-sobre-migracion-y-desarrollo/
ATTACH;FMTTYPE=:
END:VEVENT
END:VCALENDAR