BEGIN:VCALENDAR
VERSION:2.0
PRODID:-//Buró de Convenciones de Guatemala - ECPv6.13.0//NONSGML v1.0//EN
CALSCALE:GREGORIAN
METHOD:PUBLISH
X-WR-CALNAME:Buró de Convenciones de Guatemala
X-ORIGINAL-URL:https://guatemalacvb.com/en/
X-WR-CALDESC:Events for Buró de Convenciones de Guatemala
REFRESH-INTERVAL;VALUE=DURATION:PT1H
X-Robots-Tag:noindex
X-PUBLISHED-TTL:PT1H
BEGIN:VTIMEZONE
TZID:America/Guatemala
BEGIN:STANDARD
TZOFFSETFROM:-0600
TZOFFSETTO:-0600
TZNAME:CST
DTSTART:20180101T000000
END:STANDARD
END:VTIMEZONE
BEGIN:VTIMEZONE
TZID:UTC
BEGIN:STANDARD
TZOFFSETFROM:+0000
TZOFFSETTO:+0000
TZNAME:UTC
DTSTART:20180101T000000
END:STANDARD
END:VTIMEZONE
BEGIN:VEVENT
DTSTART;VALUE=DATE:20181114
DTEND;VALUE=DATE:20181116
DTSTAMP:20260420T093348
CREATED:20181008T151311Z
LAST-MODIFIED:20181008T151311Z
UID:13278-1542153600-1542326399@guatemalacvb.com
SUMMARY:XII ENCUENTRO EMPRESARIAL
DESCRIPTION:
URL:https://guatemalacvb.com/en/event/xii-encuentro-empresarial/
ATTACH;FMTTYPE=:
END:VEVENT
BEGIN:VEVENT
DTSTART;VALUE=DATE:20181114
DTEND;VALUE=DATE:20181119
DTSTAMP:20260420T093348
CREATED:20181109T203044Z
LAST-MODIFIED:20181109T203044Z
UID:13284-1542153600-1542585599@guatemalacvb.com
SUMMARY:Cuarto Festival Latinoamericano de Fotografía GuatePhoto 2018
DESCRIPTION:El Cuarto Festival Latinoamericano de Fotografía GuatePhoto 2018 llega a su cuarta edición en noviembre. En esta ocasión se presenta con el tema “Hacia Lo Local”. \nDesde su primera edición se buscó generar alianzas con la comunidad internacional de fotógrafos\, mostrando el trabajo de más de mil profesionales de 70 países a través de varias actividades culturales. \nEn esta cuarta edición\, el festival se enfoca a observar el interior y regresar hacia lo local\, con el objetivo de vernos como sociedad y entender aquello que ha captado los ojos de estos artistas guatemaltecos. \nA partir de su inauguración\, que será el 14 de noviembre\, podrás disfrutar de todas las actividades que se realizarán por las calles y espacios de la zona 4\, las cuales fueron testigo del origen de este movimiento creativo. Estas serán algunas de ellas: \n\nBicitours\nMapeos y fiestas\nExposiciones\nActivaciones\nCharlas y conversatorios\nTalleres\nRevisiones de portafolios\n\nAsí mismo\, se dará a conocer al ganador del Primer Premio Nacional de Fotografía “Luis González \nFecha: 14 al 18 de noviembre \nLugar: La Erre\, Zona 4 \nMás información: www.2018.guatephoto.org
URL:https://guatemalacvb.com/en/event/cuarto-festival-latinoamericano-de-fotografia-guatephoto-2018/
ATTACH;FMTTYPE=:
END:VEVENT
BEGIN:VEVENT
DTSTART;VALUE=DATE:20181115
DTEND;VALUE=DATE:20181117
DTSTAMP:20260420T093348
CREATED:20180809T002701Z
LAST-MODIFIED:20180809T002701Z
UID:13257-1542240000-1542412799@guatemalacvb.com
SUMMARY:XXV Cumbre Iberoamericana y XXVI Cúpula Ibero-Americana\, La Antigua Guatemala
DESCRIPTION:XXV Cumbre Iberoamericana y XXVI Cúpula Ibero-Americana\, La Antigua Guatemala 15 y 16 de noviembre.  Una Iberoamérica próspera\, inclusiva y sostenible.\nLa Cumbre de Jefes de Estado es la máxima instancia de la Conferencia Iberoamericana\, que se apoya en los acuerdos alcanzados durante las reuniones de Ministros previas. #CaminoalaCumbre
URL:https://guatemalacvb.com/en/event/xxv-cumbre-iberoamericana-y-xxvi-cupula-ibero-americana-la-antigua-guatemala/
ATTACH;FMTTYPE=:
END:VEVENT
END:VCALENDAR