BEGIN:VCALENDAR
VERSION:2.0
PRODID:-//Buró de Convenciones de Guatemala - ECPv6.13.0//NONSGML v1.0//EN
CALSCALE:GREGORIAN
METHOD:PUBLISH
X-ORIGINAL-URL:https://guatemalacvb.com/en/
X-WR-CALDESC:Events for Buró de Convenciones de Guatemala
REFRESH-INTERVAL;VALUE=DURATION:PT1H
X-Robots-Tag:noindex
X-PUBLISHED-TTL:PT1H
BEGIN:VTIMEZONE
TZID:America/Guatemala
BEGIN:STANDARD
TZOFFSETFROM:-0600
TZOFFSETTO:-0600
TZNAME:CST
DTSTART:20190101T000000
END:STANDARD
END:VTIMEZONE
BEGIN:VEVENT
DTSTART;VALUE=DATE:20190903
DTEND;VALUE=DATE:20190904
DTSTAMP:20260423T040423
CREATED:20190828T150006Z
LAST-MODIFIED:20190828T150006Z
UID:13341-1567468800-1567555199@guatemalacvb.com
SUMMARY:Foro Promoviendo una Guatemala Sostenible
DESCRIPTION:La Universidad Rafael Landívar organiza el Foro Promoviendo una Guatemala Sostenible. El martes 03 de septiembre a las 19:30 hrs. En el Auditorio URL ¡No te lo puedes perder! Para obtener más información: www.url.edu.gt
URL:https://guatemalacvb.com/en/event/foro-promoviendo-una-guatemala-sostenible/
ATTACH;FMTTYPE=:
END:VEVENT
END:VCALENDAR