BEGIN:VCALENDAR
VERSION:2.0
PRODID:-//Buró de Convenciones de Guatemala - ECPv6.13.0//NONSGML v1.0//EN
CALSCALE:GREGORIAN
METHOD:PUBLISH
X-WR-CALNAME:Buró de Convenciones de Guatemala
X-ORIGINAL-URL:https://guatemalacvb.com/en/
X-WR-CALDESC:Events for Buró de Convenciones de Guatemala
REFRESH-INTERVAL;VALUE=DURATION:PT1H
X-Robots-Tag:noindex
X-PUBLISHED-TTL:PT1H
BEGIN:VTIMEZONE
TZID:America/Guatemala
BEGIN:STANDARD
TZOFFSETFROM:-0600
TZOFFSETTO:-0600
TZNAME:CST
DTSTART:20190101T000000
END:STANDARD
END:VTIMEZONE
BEGIN:VEVENT
DTSTART;VALUE=DATE:20190924
DTEND;VALUE=DATE:20190925
DTSTAMP:20260421T075953
CREATED:20190815T151755Z
LAST-MODIFIED:20190815T151755Z
UID:13336-1569283200-1569369599@guatemalacvb.com
SUMMARY:XIV Congreso Regional de Remesas\, Microfinanzas e Inclusón Financiera COREMIF 2019
DESCRIPTION:El Congreso COREMIF\, involucra la temática de la transferencia de dinero entre dos actores o cualquier combinación de estos grupos; el avance de las tecnologías de pago móvil\, más comunes por medios electrónicos\, para transacciones más seguras\, más rápidas y más eficientes que en el pasado. \nInvolucra los pagos electrónicos\, un importante tema de la inclusión financiera\, debido a los ahorros en los costos para las personas de escasos recursos y para los que hacen este tipo de transacción. Las remesas\, es otro tema importante a tratar en el COREMIF; ya que el dinero que los migrantes envían a sus países de origen\, a través de medios informales\, carecen de la seguridad y la reglamentación que los servicios formales ofrecen. Dentro de la temática de COREMIF\, se abordarán temas sobre los avances para enviar dinero y realizar pagos móviles dentro de los países\, así como las dificultades regulatorias y retos que se enfrentan; los mecanismos de pago por móvil\, que cumplen un papel central en la transición\, en todo tipo de pagos electrónicos. El Banco Mundial muestra que\, las remesas representan tres veces el flujo de la ayuda internacional: más de US$ 500 mil millones anuales. \nDIRIGIDO A \nFuncionarios y Colaboradores de Entidades bancarias y financieras\, cuyas funciones están relacionadas con Inclusión Financiera\, Educación Financiera\, Microfinanzas y Remesas\, Cooperativas e Instituciones de Microfinanzas y Empresas Remesadoras\, Universidades y Centros de Investigación\, Instituciones públicas y privadas Público en general con Interés en los temas relacionados. \n  \nFECHA: 24 de Septiembre \nLUGAR: Hotel Barceló \nMAS INFORMACIÓN: https://www.ebg.edu.gt/coremif-2019/
URL:https://guatemalacvb.com/en/event/xiv-congreso-regional-de-remesas-microfinanzas-e-incluson-financiera-coremif-2019/
ATTACH;FMTTYPE=:
END:VEVENT
END:VCALENDAR