BEGIN:VCALENDAR
VERSION:2.0
PRODID:-//Buró de Convenciones de Guatemala - ECPv6.13.0//NONSGML v1.0//EN
CALSCALE:GREGORIAN
METHOD:PUBLISH
X-WR-CALNAME:Buró de Convenciones de Guatemala
X-ORIGINAL-URL:https://guatemalacvb.com/en/
X-WR-CALDESC:Events for Buró de Convenciones de Guatemala
REFRESH-INTERVAL;VALUE=DURATION:PT1H
X-Robots-Tag:noindex
X-PUBLISHED-TTL:PT1H
BEGIN:VTIMEZONE
TZID:America/Guatemala
BEGIN:STANDARD
TZOFFSETFROM:-0600
TZOFFSETTO:-0600
TZNAME:CST
DTSTART:20190101T000000
END:STANDARD
END:VTIMEZONE
BEGIN:VEVENT
DTSTART;VALUE=DATE:20190928
DTEND;VALUE=DATE:20191017
DTSTAMP:20260421T132223
CREATED:20191009T150016Z
LAST-MODIFIED:20191009T150016Z
UID:13368-1569628800-1571270399@guatemalacvb.com
SUMMARY:VI Festival Internacional de Arte FIA USAC
DESCRIPTION:Por sexto año se llevará a cabo el Festival Internacional de Arte FIA USAC que tendrá como sede el Paraninfo Universitario. Los principales atractivos serán expresiones de danza\, teatro\, música\, poesía y cine. Para más información búscalos en Facebook como @usac.fia
URL:https://guatemalacvb.com/en/event/vi-festival-internacional-de-arte-fia-usac/
ATTACH;FMTTYPE=:
END:VEVENT
BEGIN:VEVENT
DTSTART;VALUE=DATE:20191002
DTEND;VALUE=DATE:20191005
DTSTAMP:20260421T132223
CREATED:20190730T150511Z
LAST-MODIFIED:20190730T150511Z
UID:13324-1569974400-1570233599@guatemalacvb.com
SUMMARY:III Congreso Palmero Guatemala 2019
DESCRIPTION:Del 2 al 4 de octubre 2019 la Gremial de Palmicultores de Guatemala llevará a cabo nuevamente su Congreso Palmero\, en la tercera edición del C//PAL 2019. \nTiene como objetivo transmitir el contexto mundial de la palma de aceite\, así como temas relacionados a la perspectiva mundial de la oferta\, demanda y precios; desafíos y oportunidades de la palmicultura: productividad\, costos de producción\, precios y rentabilidad; innovación tecnológica en la agroindustria; el presente y futuro de las certificaciones; entre otros. \n  \nFECHA: DEL 2 AL 4 DE OCTUBRE 2019 \nLUGAR: Santo Domingo del Cerro\, La Antigua Guatemala \nMÁS INFORMACIÓN: https://www.grepalma.org/iiicpal2019/
URL:https://guatemalacvb.com/en/event/iii-congreso-palmero-guatemala-2019/
ATTACH;FMTTYPE=:
END:VEVENT
BEGIN:VEVENT
DTSTART;VALUE=DATE:20191002
DTEND;VALUE=DATE:20191017
DTSTAMP:20260421T132223
CREATED:20190930T172923Z
LAST-MODIFIED:20190930T172923Z
UID:13363-1569974400-1571270399@guatemalacvb.com
SUMMARY:Elaboración de silbatos estilo prehispánico
DESCRIPTION:¡No te puedes perder el Taller de Elaboración de Silbatos estilo Prehispánico! \nImpartido por Carlos Chaclán \nHora: 9:00 AM a 1:00 PM \nFecha: Miércoles 2 y 16 de octubre. \nLugar: Universidad Francisco Marroquín \nCosto: \n\nPúblico Q600.00\nEstudiantes y/o guías de turismo Q500.00\nParqueo por sesión Q40\n\nMás información al teléfono: 2338-7896
URL:https://guatemalacvb.com/en/event/elaboracion-de-silbatos-estilo-prehispanico/
ATTACH;FMTTYPE=:
END:VEVENT
END:VCALENDAR