BEGIN:VCALENDAR
VERSION:2.0
PRODID:-//Buró de Convenciones de Guatemala - ECPv6.13.0//NONSGML v1.0//EN
CALSCALE:GREGORIAN
METHOD:PUBLISH
X-WR-CALNAME:Buró de Convenciones de Guatemala
X-ORIGINAL-URL:https://guatemalacvb.com/en/
X-WR-CALDESC:Events for Buró de Convenciones de Guatemala
REFRESH-INTERVAL;VALUE=DURATION:PT1H
X-Robots-Tag:noindex
X-PUBLISHED-TTL:PT1H
BEGIN:VTIMEZONE
TZID:America/Guatemala
BEGIN:STANDARD
TZOFFSETFROM:-0600
TZOFFSETTO:-0600
TZNAME:CST
DTSTART:20190101T000000
END:STANDARD
END:VTIMEZONE
BEGIN:VEVENT
DTSTART;VALUE=DATE:20190928
DTEND;VALUE=DATE:20191017
DTSTAMP:20260425T042554
CREATED:20191009T150016Z
LAST-MODIFIED:20191009T150016Z
UID:13368-1569628800-1571270399@guatemalacvb.com
SUMMARY:VI Festival Internacional de Arte FIA USAC
DESCRIPTION:Por sexto año se llevará a cabo el Festival Internacional de Arte FIA USAC que tendrá como sede el Paraninfo Universitario. Los principales atractivos serán expresiones de danza\, teatro\, música\, poesía y cine. Para más información búscalos en Facebook como @usac.fia
URL:https://guatemalacvb.com/en/event/vi-festival-internacional-de-arte-fia-usac/
ATTACH;FMTTYPE=:
END:VEVENT
BEGIN:VEVENT
DTSTART;VALUE=DATE:20191002
DTEND;VALUE=DATE:20191017
DTSTAMP:20260425T042554
CREATED:20190930T172923Z
LAST-MODIFIED:20190930T172923Z
UID:13363-1569974400-1571270399@guatemalacvb.com
SUMMARY:Elaboración de silbatos estilo prehispánico
DESCRIPTION:¡No te puedes perder el Taller de Elaboración de Silbatos estilo Prehispánico! \nImpartido por Carlos Chaclán \nHora: 9:00 AM a 1:00 PM \nFecha: Miércoles 2 y 16 de octubre. \nLugar: Universidad Francisco Marroquín \nCosto: \n\nPúblico Q600.00\nEstudiantes y/o guías de turismo Q500.00\nParqueo por sesión Q40\n\nMás información al teléfono: 2338-7896
URL:https://guatemalacvb.com/en/event/elaboracion-de-silbatos-estilo-prehispanico/
ATTACH;FMTTYPE=:
END:VEVENT
BEGIN:VEVENT
DTSTART;VALUE=DATE:20191005
DTEND;VALUE=DATE:20191201
DTSTAMP:20260425T042554
CREATED:20190911T150025Z
LAST-MODIFIED:20190911T150025Z
UID:13356-1570233600-1575158399@guatemalacvb.com
SUMMARY:Elaboración de piezas de nacimiento
DESCRIPTION:Conferencista: Luis Midence (Universidad de San Carlos de Guatemala) \nLugar: Universidad Francisco Marroquín \nFechas: Sábados 5\, 12\, 19 y 26 de octubre; 2\, 9\, 16\, 23 y 30 de noviembre \nHora: 9:30 a.m. a 12:30 p.m. \nCostos: \n\nMisterio Q2\,800.00\nReyes magos/ Pastores Q2\,900.00\nParqueo: Tarifa única por sesión Q40.00\n\nÚltimo día de inscripción: jueves 19 de septiembre (30% valor del curso)
URL:https://guatemalacvb.com/en/event/elaboracion-de-piezas-de-nacimiento/
ATTACH;FMTTYPE=:
END:VEVENT
BEGIN:VEVENT
DTSTART;VALUE=DATE:20191015
DTEND;VALUE=DATE:20191016
DTSTAMP:20260425T042554
CREATED:20190911T150000Z
LAST-MODIFIED:20190911T150000Z
UID:13355-1571097600-1571183999@guatemalacvb.com
SUMMARY:12º Congreso Internacional de Filosofía
DESCRIPTION:El 12º. Congreso Internacional de Filosofía se llevará a cabo en la Universidad Rafael Landivar  el día 15 de octubre\, ¡No te lo puedes perder!
URL:https://guatemalacvb.com/en/event/12o-congreso-internacional-de-filosofia/
ATTACH;FMTTYPE=:
END:VEVENT
BEGIN:VEVENT
DTSTART;VALUE=DATE:20191015
DTEND;VALUE=DATE:20191016
DTSTAMP:20260425T042554
CREATED:20191010T150040Z
LAST-MODIFIED:20191010T150040Z
UID:13369-1571097600-1571183999@guatemalacvb.com
SUMMARY:Conversatorio Aportes de Alaain Ichon a la Arqueología Guatemalteca
DESCRIPTION:Asiste al Conversatorio “Aportes de Alain Ichon a la arqueología guatemalteca” este martes 15 de octubre. Para más información comunícate al teléfono: 2338 7896 o ingresa a la página www.popolvuh.ufm.edu
URL:https://guatemalacvb.com/en/event/conversatorio-aportes-de-alaain-ichon-a-la-arqueologia-guatemalteca/
ATTACH;FMTTYPE=:
END:VEVENT
END:VCALENDAR