BEGIN:VCALENDAR
VERSION:2.0
PRODID:-//Buró de Convenciones de Guatemala - ECPv6.13.0//NONSGML v1.0//EN
CALSCALE:GREGORIAN
METHOD:PUBLISH
X-WR-CALNAME:Buró de Convenciones de Guatemala
X-ORIGINAL-URL:https://guatemalacvb.com/en/
X-WR-CALDESC:Events for Buró de Convenciones de Guatemala
REFRESH-INTERVAL;VALUE=DURATION:PT1H
X-Robots-Tag:noindex
X-PUBLISHED-TTL:PT1H
BEGIN:VTIMEZONE
TZID:America/Guatemala
BEGIN:STANDARD
TZOFFSETFROM:-0600
TZOFFSETTO:-0600
TZNAME:CST
DTSTART:20190101T000000
END:STANDARD
END:VTIMEZONE
BEGIN:VEVENT
DTSTART;VALUE=DATE:20191005
DTEND;VALUE=DATE:20191201
DTSTAMP:20260421T082038
CREATED:20190911T150025Z
LAST-MODIFIED:20190911T150025Z
UID:13356-1570233600-1575158399@guatemalacvb.com
SUMMARY:Elaboración de piezas de nacimiento
DESCRIPTION:Conferencista: Luis Midence (Universidad de San Carlos de Guatemala) \nLugar: Universidad Francisco Marroquín \nFechas: Sábados 5\, 12\, 19 y 26 de octubre; 2\, 9\, 16\, 23 y 30 de noviembre \nHora: 9:30 a.m. a 12:30 p.m. \nCostos: \n\nMisterio Q2\,800.00\nReyes magos/ Pastores Q2\,900.00\nParqueo: Tarifa única por sesión Q40.00\n\nÚltimo día de inscripción: jueves 19 de septiembre (30% valor del curso)
URL:https://guatemalacvb.com/en/event/elaboracion-de-piezas-de-nacimiento/
ATTACH;FMTTYPE=:
END:VEVENT
BEGIN:VEVENT
DTSTART;VALUE=DATE:20191023
DTEND;VALUE=DATE:20191026
DTSTAMP:20260421T082038
CREATED:20190820T150046Z
LAST-MODIFIED:20190820T150046Z
UID:13251-1571788800-1572047999@guatemalacvb.com
SUMMARY:XXVIII Congreso Latinoamericano de Fideicomisos COLAFI
DESCRIPTION:FECHA: 23\, 24 y 25 de octubre \nLUGAR: Hotel Casa Santo Domingo \nMAS INFORMACIÓN: www.ebg.edu.gt \nFacebook: https://www.facebook.com/pg/abg.ebg/
URL:https://guatemalacvb.com/en/event/xxviii-congreso-latinoamericano-de-fideicomisos-colafi/
ATTACH;FMTTYPE=:
END:VEVENT
BEGIN:VEVENT
DTSTART;VALUE=DATE:20191023
DTEND;VALUE=DATE:20191026
DTSTAMP:20260421T082038
CREATED:20191016T150052Z
LAST-MODIFIED:20191016T150052Z
UID:13373-1571788800-1572047999@guatemalacvb.com
SUMMARY:XXVIII Congreso Latinoamericano de Fideicomisos COLAFI
DESCRIPTION:El XXVIII Congreso Latinoamericano de Fideicomisos COLAFI\, se realizará este año en el Hotel Casa Santo Domingo los días 23\, 24 y 25 de octubre\, No te lo puedes perder. Para más información ingresa a https://www.colafi2019.gt/
URL:https://guatemalacvb.com/en/event/xxviii-congreso-latinoamericano-de-fideicomisos-colafi-2/
ATTACH;FMTTYPE=:
END:VEVENT
BEGIN:VEVENT
DTSTART;VALUE=DATE:20191025
DTEND;VALUE=DATE:20191026
DTSTAMP:20260421T082038
CREATED:20191024T150039Z
LAST-MODIFIED:20191024T150039Z
UID:13379-1571961600-1572047999@guatemalacvb.com
SUMMARY:Rayarte 2019 Congreso de Comunicación Visual
DESCRIPTION:Rayarte 2019 Congreso de Comunicación Visual se realizará el 25 de octubre en Tikal Futura Hotel. Para más información y entradas ingresa al sitio web: www.rayarte.farusac.edu.gt
URL:https://guatemalacvb.com/en/event/rayarte-2019-congreso-de-comunicacion-visual/
ATTACH;FMTTYPE=:
END:VEVENT
BEGIN:VEVENT
DTSTART;VALUE=DATE:20191025
DTEND;VALUE=DATE:20191101
DTSTAMP:20260421T082038
CREATED:20190923T145548Z
LAST-MODIFIED:20190923T145548Z
UID:13362-1571961600-1572566399@guatemalacvb.com
SUMMARY:Recorrido de Leyendas 2019
DESCRIPTION:Este año no te pierdas el recorrido de leyendas\, con mas de 40 actores profesionales en escena. maquillaje y vestuarios teatrales de primera\, efectos especiales\, pasajes terroríficos\, historia viva de nuestro país. \nFechas: viernes 25\, sábado 26 y jueves 31 de octubre. \nLugar: Parque Cerrito del Carmen \nHorarios: 7:00 a 11:00 PM (Recorridos salen cada 10 minutos) *Duración del recorrido 50 min. \nAdmisión: Q60.00 (Cupo limitado) \nEntradas a la venta en TodoTicket \n 
URL:https://guatemalacvb.com/en/event/recorrido-de-leyendas-2019/
ATTACH;FMTTYPE=:
END:VEVENT
END:VCALENDAR