BEGIN:VCALENDAR
VERSION:2.0
PRODID:-//Buró de Convenciones de Guatemala - ECPv6.13.0//NONSGML v1.0//EN
CALSCALE:GREGORIAN
METHOD:PUBLISH
X-WR-CALNAME:Buró de Convenciones de Guatemala
X-ORIGINAL-URL:https://guatemalacvb.com/en/
X-WR-CALDESC:Events for Buró de Convenciones de Guatemala
REFRESH-INTERVAL;VALUE=DURATION:PT1H
X-Robots-Tag:noindex
X-PUBLISHED-TTL:PT1H
BEGIN:VTIMEZONE
TZID:America/Guatemala
BEGIN:STANDARD
TZOFFSETFROM:-0600
TZOFFSETTO:-0600
TZNAME:CST
DTSTART:20190101T000000
END:STANDARD
END:VTIMEZONE
BEGIN:VEVENT
DTSTART;VALUE=DATE:20191005
DTEND;VALUE=DATE:20191201
DTSTAMP:20260423T083019
CREATED:20190911T150025Z
LAST-MODIFIED:20190911T150025Z
UID:13356-1570233600-1575158399@guatemalacvb.com
SUMMARY:Elaboración de piezas de nacimiento
DESCRIPTION:Conferencista: Luis Midence (Universidad de San Carlos de Guatemala) \nLugar: Universidad Francisco Marroquín \nFechas: Sábados 5\, 12\, 19 y 26 de octubre; 2\, 9\, 16\, 23 y 30 de noviembre \nHora: 9:30 a.m. a 12:30 p.m. \nCostos: \n\nMisterio Q2\,800.00\nReyes magos/ Pastores Q2\,900.00\nParqueo: Tarifa única por sesión Q40.00\n\nÚltimo día de inscripción: jueves 19 de septiembre (30% valor del curso)
URL:https://guatemalacvb.com/en/event/elaboracion-de-piezas-de-nacimiento/
ATTACH;FMTTYPE=:
END:VEVENT
BEGIN:VEVENT
DTSTART;VALUE=DATE:20191105
DTEND;VALUE=DATE:20191109
DTSTAMP:20260423T083019
CREATED:20191104T150014Z
LAST-MODIFIED:20191104T150014Z
UID:13385-1572912000-1573257599@guatemalacvb.com
SUMMARY:1er. Congreso Nacional Teología del Cuerpo
DESCRIPTION:El 1er. Congreso Nacional Teología del Cuerpo se realizará del 5 al 8 de noviembre con conferencistas internacionales. Para más información ingresa a www.definegt.com/ \n 
URL:https://guatemalacvb.com/en/event/1er-congreso-nacional-teologia-del-cuerpo/
ATTACH;FMTTYPE=:
END:VEVENT
BEGIN:VEVENT
DTSTART;VALUE=DATE:20191107
DTEND;VALUE=DATE:20191109
DTSTAMP:20260423T083019
CREATED:20191017T151327Z
LAST-MODIFIED:20191017T151327Z
UID:13374-1573084800-1573257599@guatemalacvb.com
SUMMARY:Festival de Antigua 2019
DESCRIPTION:No te puedes perder el Festival de Antigua 2019 con el tema “Creatividad Humana Disruptiva” a realizarse el 7 y 8 de noviembre en Santo Domingo El Cerro\, Antigua Guatemala. Más información: https://festivaldeantigua.com/
URL:https://guatemalacvb.com/en/event/festival-de-antigua-2019/
ATTACH;FMTTYPE=:
END:VEVENT
BEGIN:VEVENT
DTSTART;VALUE=DATE:20191107
DTEND;VALUE=DATE:20191110
DTSTAMP:20260423T083019
CREATED:20191029T150033Z
LAST-MODIFIED:20191029T150033Z
UID:13382-1573084800-1573343999@guatemalacvb.com
SUMMARY:Competencia Nacional de Barismo y Catación
DESCRIPTION:La Competencia Nacional de Barismo y Catación se llevará a cabo los días 7\, 8 y 9 de noviembre en el edificio de Anacafé. Para participar ingresa a: www.anacafe.org/eventos/competencia-nacional-de-barismo-y-catacion/
URL:https://guatemalacvb.com/en/event/competencia-nacional-de-barismo-y-catacion/
ATTACH;FMTTYPE=:
END:VEVENT
END:VCALENDAR