BEGIN:VCALENDAR
VERSION:2.0
PRODID:-//Buró de Convenciones de Guatemala - ECPv6.13.0//NONSGML v1.0//EN
CALSCALE:GREGORIAN
METHOD:PUBLISH
X-WR-CALNAME:Buró de Convenciones de Guatemala
X-ORIGINAL-URL:https://guatemalacvb.com/en/
X-WR-CALDESC:Events for Buró de Convenciones de Guatemala
REFRESH-INTERVAL;VALUE=DURATION:PT1H
X-Robots-Tag:noindex
X-PUBLISHED-TTL:PT1H
BEGIN:VTIMEZONE
TZID:America/Guatemala
BEGIN:STANDARD
TZOFFSETFROM:-0600
TZOFFSETTO:-0600
TZNAME:CST
DTSTART:20190101T000000
END:STANDARD
END:VTIMEZONE
BEGIN:VEVENT
DTSTART;VALUE=DATE:20191005
DTEND;VALUE=DATE:20191201
DTSTAMP:20260425T050404
CREATED:20190911T150025Z
LAST-MODIFIED:20190911T150025Z
UID:13356-1570233600-1575158399@guatemalacvb.com
SUMMARY:Elaboración de piezas de nacimiento
DESCRIPTION:Conferencista: Luis Midence (Universidad de San Carlos de Guatemala) \nLugar: Universidad Francisco Marroquín \nFechas: Sábados 5\, 12\, 19 y 26 de octubre; 2\, 9\, 16\, 23 y 30 de noviembre \nHora: 9:30 a.m. a 12:30 p.m. \nCostos: \n\nMisterio Q2\,800.00\nReyes magos/ Pastores Q2\,900.00\nParqueo: Tarifa única por sesión Q40.00\n\nÚltimo día de inscripción: jueves 19 de septiembre (30% valor del curso)
URL:https://guatemalacvb.com/en/event/elaboracion-de-piezas-de-nacimiento/
ATTACH;FMTTYPE=:
END:VEVENT
BEGIN:VEVENT
DTSTART;VALUE=DATE:20191118
DTEND;VALUE=DATE:20191123
DTSTAMP:20260425T050404
CREATED:20190731T153351Z
LAST-MODIFIED:20190731T153351Z
UID:13325-1574035200-1574467199@guatemalacvb.com
SUMMARY:XXIII Congreso Nacional de Matemática Educativa
DESCRIPTION:FECHA: 18 Y 22 DE NOVIEMBRE 2019 \nLUGAR: Facultad de Ingeniería\, Campus Central USAC \nMÁS INFORMACIÓN: congresodematematica@yahoo.com
URL:https://guatemalacvb.com/en/event/xxiii-congreso-nacional-de-matematica-educativa/
ATTACH;FMTTYPE=:
END:VEVENT
BEGIN:VEVENT
DTSTART;VALUE=DATE:20191120
DTEND;VALUE=DATE:20191122
DTSTAMP:20260425T050404
CREATED:20191119T150057Z
LAST-MODIFIED:20191119T150057Z
UID:13396-1574208000-1574380799@guatemalacvb.com
SUMMARY:Convención IMPELSA 2019
DESCRIPTION:La Convención IMPELSA 2019 contará con 40 charlas especializadas para más de 16 diferentes sectores y la entrada es totalmente gratuita. Se realizará este 20 y 21 de noviembre\, todavía estás a tiempo\, ingresa para registrarte a: www.convencion.impelsa.com
URL:https://guatemalacvb.com/en/event/convencion-impelsa-2019/
ATTACH;FMTTYPE=:
END:VEVENT
BEGIN:VEVENT
DTSTART;VALUE=DATE:20191120
DTEND;VALUE=DATE:20191123
DTSTAMP:20260425T050404
CREATED:20190801T150058Z
LAST-MODIFIED:20190801T150058Z
UID:13326-1574208000-1574467199@guatemalacvb.com
SUMMARY:Concapan XXXIX Guatemala 2019
DESCRIPTION:La Convención de Centro América y Panamá\, CONCAPAN\, es el evento más importante de la industria eléctrica en región centroamericana. \nEl potencial tecnológico de Centro América va en aumento. Este evento será la oportunidad de vivir experiencias únicas de aprendizaje\, conocimiento y comunicación con otros expertos\, profesionales\, investigadores\, estudiantes en el ámbito de la potencia\, las comunicaciones\, la informática. \n  \nFECHA: DEL 20 AL 22 DE NOVIEMBRE 2019 \nLUGAR: Hotel Westin Camino Real \nMÁS INFORMACIÓN: https://concapan2019.org/ \nCORREO: info@concapan2019.org
URL:https://guatemalacvb.com/en/event/concapan-xxxix-guatemala-2019/
ATTACH;FMTTYPE=:
END:VEVENT
END:VCALENDAR