BEGIN:VCALENDAR
VERSION:2.0
PRODID:-//Buró de Convenciones de Guatemala - ECPv6.13.0//NONSGML v1.0//EN
CALSCALE:GREGORIAN
METHOD:PUBLISH
X-WR-CALNAME:Buró de Convenciones de Guatemala
X-ORIGINAL-URL:https://guatemalacvb.com/en/
X-WR-CALDESC:Events for Buró de Convenciones de Guatemala
REFRESH-INTERVAL;VALUE=DURATION:PT1H
X-Robots-Tag:noindex
X-PUBLISHED-TTL:PT1H
BEGIN:VTIMEZONE
TZID:UTC
BEGIN:STANDARD
TZOFFSETFROM:+0000
TZOFFSETTO:+0000
TZNAME:UTC
DTSTART:20220101T000000
END:STANDARD
END:VTIMEZONE
BEGIN:VEVENT
DTSTART;VALUE=DATE:20220420
DTEND;VALUE=DATE:20220421
DTSTAMP:20260422T052941
CREATED:20220420T234530Z
LAST-MODIFIED:20220420T234640Z
UID:16112-1650412800-1650499199@guatemalacvb.com
SUMMARY:Charla Virtual "10 características de los líderes de hoy"
DESCRIPTION:Participa en la charla virtual\, sin costo “10 características de los líderes de hoy”\, este miércoles 20 de abril a las 8:30 a.m.\n\nImpartida por Esther Brol\, CEO de Communication Consulting Group y Presidente del Buró de Convenciones de Guatemala.\n\nPara más información e inscripciones: info1@guatemalacvb.com
URL:https://guatemalacvb.com/en/event/charla-virtual-10-caracteristicas-de-los-lideres-de-hoy/
ATTACH;FMTTYPE=image/jpeg:https://guatemalacvb.com/wp-content/uploads/sites/46/2022/04/10-Caracteristicas-de-los-lideres-de-hoy.jpeg
END:VEVENT
END:VCALENDAR