BEGIN:VCALENDAR
VERSION:2.0
PRODID:-//Buró de Convenciones de Guatemala - ECPv6.13.0//NONSGML v1.0//EN
CALSCALE:GREGORIAN
METHOD:PUBLISH
X-ORIGINAL-URL:https://guatemalacvb.com/en/
X-WR-CALDESC:Events for Buró de Convenciones de Guatemala
REFRESH-INTERVAL;VALUE=DURATION:PT1H
X-Robots-Tag:noindex
X-PUBLISHED-TTL:PT1H
BEGIN:VTIMEZONE
TZID:UTC
BEGIN:STANDARD
TZOFFSETFROM:+0000
TZOFFSETTO:+0000
TZNAME:UTC
DTSTART:20220101T000000
END:STANDARD
END:VTIMEZONE
BEGIN:VEVENT
DTSTART;VALUE=DATE:20221201
DTEND;VALUE=DATE:20221202
DTSTAMP:20260422T070732
CREATED:20221126T030941Z
LAST-MODIFIED:20221126T030941Z
UID:16651-1669852800-1669939199@guatemalacvb.com
SUMMARY:Simposio de Pavimentos Asfálticos
DESCRIPTION:El Instituto de Asfalto de Guatemala te invita a participar en el Simposio Guatemalteco de Pavimentos Asfálticos \nCon las conferencias más relevantes en manos de los expertos\, habrá stands\, ponencias y networking. \n  \nJueves 1 de diciembre \nEn ÉPICA Eventos y Convenciones en AVIA \nCupo limitado \nMás información: info@iag.org.gt – www.iag.org.gt – (502) 30391476 \n  \n#IndustriaDeReuniones #MeetingsGuatemala #Guatemala \n#EventosGuatemala
URL:https://guatemalacvb.com/en/event/simposio-de-pavimentos-asfalticos/
ATTACH;FMTTYPE=image/jpeg:https://guatemalacvb.com/wp-content/uploads/sites/46/2022/11/SIMPOSIO-DE-PAVIMENTOS-ASFALTICOS.jpg
END:VEVENT
END:VCALENDAR