BEGIN:VCALENDAR
VERSION:2.0
PRODID:-//Buró de Convenciones de Guatemala - ECPv6.13.0//NONSGML v1.0//EN
CALSCALE:GREGORIAN
METHOD:PUBLISH
X-ORIGINAL-URL:https://guatemalacvb.com/en/
X-WR-CALDESC:Events for Buró de Convenciones de Guatemala
REFRESH-INTERVAL;VALUE=DURATION:PT1H
X-Robots-Tag:noindex
X-PUBLISHED-TTL:PT1H
BEGIN:VTIMEZONE
TZID:UTC
BEGIN:STANDARD
TZOFFSETFROM:+0000
TZOFFSETTO:+0000
TZNAME:UTC
DTSTART:20220101T000000
END:STANDARD
END:VTIMEZONE
BEGIN:VTIMEZONE
TZID:America/Guatemala
BEGIN:STANDARD
TZOFFSETFROM:-0600
TZOFFSETTO:-0600
TZNAME:CST
DTSTART:20220101T000000
END:STANDARD
END:VTIMEZONE
BEGIN:VEVENT
DTSTART;VALUE=DATE:20221004
DTEND;VALUE=DATE:20221005
DTSTAMP:20260422T054503
CREATED:20220826T225541Z
LAST-MODIFIED:20220826T225615Z
UID:16360-1664841600-1664927999@guatemalacvb.com
SUMMARY:Congreso de Mujeres Líderes
DESCRIPTION:Participa en el XVII Congreso de Mujeres Líderes Guatemaltecas “El Poder del RE” organizado por la Cámara de Comercio de Guatemala.\nSe realizará el 4 de octubre en el Hotel Westin Camino Real.\n\nMás información:\nTeléfono: (502) 2417 2711\nWhatsApp: (502) 4212 3189\n\n\n#IndustriaDeReuniones #MeetingsGuatemala #Guatemala\n\n#EventosGuatemala
URL:https://guatemalacvb.com/en/event/congreso-de-mujeres-lideres/
ATTACH;FMTTYPE=image/jpeg:https://guatemalacvb.com/wp-content/uploads/sites/46/2022/08/Congreso-de-Mujeres-Lideres.jpg
END:VEVENT
BEGIN:VEVENT
DTSTART;VALUE=DATE:20221013
DTEND;VALUE=DATE:20221017
DTSTAMP:20260422T054503
CREATED:20220812T232501Z
LAST-MODIFIED:20220812T235103Z
UID:16334-1665619200-1665964799@guatemalacvb.com
SUMMARY:Expocable Híbrido 2022
DESCRIPTION:¡Participa en #ExpocableHíbrido2022 Tu conexión con el mundo de las telecomunicaciones!\nContrata tu stand y ponte en contacto con tu público objetivo.\nOrganiza Gremial de TV por Cable\, adscrita a Cámara de Industria de Guatemala \nInformación:\nTeléfono: +(502) 4712-8471\nCorreo: ejecutiva@grecable.com.gt\nPágina web: www.expocable.com.gt \nOrganiza Gremial de TV por Cable\, adscrita a Cámara de Industria de Guatemala
URL:https://guatemalacvb.com/en/event/expocable-hibrido-2022/
ATTACH;FMTTYPE=image/jpeg:https://guatemalacvb.com/wp-content/uploads/sites/46/2022/08/A725CB49-B0F9-4D4D-B235-08F11EBA20AE.jpeg
END:VEVENT
BEGIN:VEVENT
DTSTART;VALUE=DATE:20221013
DTEND;VALUE=DATE:20221023
DTSTAMP:20260422T054503
CREATED:20221017T225052Z
LAST-MODIFIED:20221017T225052Z
UID:16531-1665619200-1666483199@guatemalacvb.com
SUMMARY:Festival del Centro Histórico
DESCRIPTION:¡No te pierdas las actividades del Festival del Centro Histórico de la Ciudad de Guatemala!\nConciertos\, talleres\, recorridos guiados y otras muchas actividades por realizar. Este festival se realiza del 13 al 22 de octubre de 2022.\nDescarga la agenda general aquí  www.festivaldelcentrohistorico.com\n\n\n#IndustriaDeReuniones #MeetingsGuatemala #Guatemala\n#EventosGuatemala #25FCH #centrohistoricogt
URL:https://guatemalacvb.com/en/event/festival-del-centro-historico-2/
ATTACH;FMTTYPE=image/jpeg:https://guatemalacvb.com/wp-content/uploads/sites/46/2022/10/Festival-del-Centro-Historico.jpg
END:VEVENT
BEGIN:VEVENT
DTSTART;TZID=UTC:20221013T080000
DTEND;TZID=UTC:20221013T170000
DTSTAMP:20260422T054503
CREATED:20221004T230401Z
LAST-MODIFIED:20221004T230401Z
UID:16407-1665648000-1665680400@guatemalacvb.com
SUMMARY:Foro GREMAB
DESCRIPTION:La Gremial de Alimentos y Bebidas de la Cámara de Industria de Guatemala te invitan al Foro: “Alimentos & Bebidas – Comprometidos con el bienestar de los guatemaltecos”\n\nFecha: jueves 13 de octubre\nDe 8:00 a 17:00 horas\nLugar: Salón Épica E\, Complejo AVIA\, (12 calle 2-25\, zona 10 1er. nivel)\n\nEnlace de registro: https://bit.ly/3Tkqyfp\nContacto: eventos@industriaguate.com\nPBX.: 2380-9000 Ext. 117/224
URL:https://guatemalacvb.com/en/event/foro-gremab/
ATTACH;FMTTYPE=image/jpeg:https://guatemalacvb.com/wp-content/uploads/sites/46/2022/10/Foro-GREMAB.jpg
END:VEVENT
BEGIN:VEVENT
DTSTART;VALUE=DATE:20221018
DTEND;VALUE=DATE:20221020
DTSTAMP:20260422T054503
CREATED:20220812T002618Z
LAST-MODIFIED:20220812T003347Z
UID:16314-1666051200-1666223999@guatemalacvb.com
SUMMARY:Foro Forbes
DESCRIPTION:¡El primer Foro Forbes en español se realizará en Guatemala! \nLa revista internacional Forbes lanzará el primer Foro Forbes en español que se realizará el 18 y 19 de octubre de 2022 y la sede será La Antigua Guatemala\, en donde habrá temas de interés sobre economía\, negocios y finanzas.\n\n\n#IndustriaDeReuniones #MeetingsGuatemala #Guatemala\n#EventosGuatemala
URL:https://guatemalacvb.com/en/event/foro-forbes/
END:VEVENT
BEGIN:VEVENT
DTSTART;VALUE=DATE:20221018
DTEND;VALUE=DATE:20221022
DTSTAMP:20260422T054503
CREATED:20210518T200041Z
LAST-MODIFIED:20211027T231910Z
UID:13566-1666051200-1666396799@guatemalacvb.com
SUMMARY:Congreso de Ortodoncia ALADO FAOCA
DESCRIPTION:Damos la bienvenida a Guatemala al Congreso de Ortodoncia ALADO FAOCA\, Guatemala 2022.  Se realizará del 18 al 21 de octubre 2022 en WESTIN CAMINO REAL.  Reserva la fecha.  En https://www.facebook.com/AladoFaoca2021/ estarán publicando más información. \n\n\n#Guatemalaindustriadereuniones #Guatemalasafeevents #Guatemalaeventosseguros #BicentenarioGuatemala 
URL:https://guatemalacvb.com/en/event/congreso-de-ortodoncia-alado-faoca/
ATTACH;FMTTYPE=image/jpeg:https://guatemalacvb.com/wp-content/uploads/sites/46/2021/05/4AA788EF-E879-4175-8713-8DC86A556158-400x400-1.jpeg
END:VEVENT
BEGIN:VEVENT
DTSTART;TZID=UTC:20221022T110000
DTEND;TZID=UTC:20221022T170000
DTSTAMP:20260422T054503
CREATED:20221021T231735Z
LAST-MODIFIED:20221021T231804Z
UID:16543-1666436400-1666458000@guatemalacvb.com
SUMMARY:Reto Barista
DESCRIPTION:No te pierdas el Reto Barista y conoce quién es el mejor barista de la ciudad.\nEste sábado 22 de octubre disfruta el #RetoBaristaMuniGuate desde el Mercado Gastronómico Cayibel a partir de las 11:00 hrs.\n\n\n#IndustriaDeReuniones #MeetingsGuatemala #Guatemala\n#EventosGuatemala
URL:https://guatemalacvb.com/en/event/reto-barista/
ATTACH;FMTTYPE=image/jpeg:https://guatemalacvb.com/wp-content/uploads/sites/46/2022/10/Reto-Barista.jpeg
END:VEVENT
BEGIN:VEVENT
DTSTART;VALUE=DATE:20221025
DTEND;VALUE=DATE:20221027
DTSTAMP:20260422T054503
CREATED:20221006T230550Z
LAST-MODIFIED:20221006T230550Z
UID:16412-1666656000-1666828799@guatemalacvb.com
SUMMARY:Expo Verde
DESCRIPTION:La Cámara Guatemalteca de la Construcción te invita a participar en “ExpoVerde Internacional de la Construcción 2022” el evento más esperado e importante de construcción sostenible.\n\nFecha: 25 y 26 de octubre\nEn el Centro de Convenciones ÉPICA\, edificio AVIA\n\nInscríbete aquí: https://bit.ly/3ST0Ugt\nMás información: capacitaciones@construguate.com\nPBX: 2387-2727\nWhatsApp: +502 3720-9835
URL:https://guatemalacvb.com/en/event/expo-verde/
ATTACH;FMTTYPE=image/png:https://guatemalacvb.com/wp-content/uploads/sites/46/2022/10/Expo-Verde.png
END:VEVENT
BEGIN:VEVENT
DTSTART;VALUE=DATE:20221026
DTEND;VALUE=DATE:20221029
DTSTAMP:20260422T054503
CREATED:20220408T230421Z
LAST-MODIFIED:20220408T230421Z
UID:16107-1666742400-1667001599@guatemalacvb.com
SUMMARY:V Expo Verde Internacional de la Construcción
DESCRIPTION:Reserva la fecha para el evento V Expo Verde Internacional de la Construcción\, del 26 al 28 de octubre 2022.\n\nEvento organizado por la Cámara Guatemalteca de la Construcción\, Guatemala Green Building Council y Embajada de Canadá en Guatemala.\n\n\n\n\nSi le interesa conocer sobre stands y patrocinio\, regístrese aquí: https://forms.gle/FP4eDfczdiz9TbtW6\n\n\n\nMás información: capacitaciones@construguate.com\nTeléfono: (502) 2387-2727\nWhatsApp: (502) 3720-9835
URL:https://guatemalacvb.com/en/event/v-expo-verde-internacional-de-la-construccion/
ATTACH;FMTTYPE=image/png:https://guatemalacvb.com/wp-content/uploads/sites/46/2022/04/EXPO-VERDE.png
END:VEVENT
BEGIN:VEVENT
DTSTART;VALUE=DATE:20221029
DTEND;VALUE=DATE:20221031
DTSTAMP:20260422T054503
CREATED:20221017T225155Z
LAST-MODIFIED:20221017T225155Z
UID:16537-1667001600-1667174399@guatemalacvb.com
SUMMARY:Feria de la bota
DESCRIPTION:Participa en la “Feria de la bota” este 29 y 30 de octubre de 2022 en Pastores\, Sacatepéquez.\n\nHabrá: parqueo seguro\, venta de comida\, medidas de bioseguridad\, marimba y música en vivo\n\n\n#IndustriaDeReuniones #MeetingsGuatemala #Guatemala\n#EventosGuatemala
URL:https://guatemalacvb.com/en/event/feria-de-la-bota/
ATTACH;FMTTYPE=image/jpeg:https://guatemalacvb.com/wp-content/uploads/sites/46/2022/10/Feria-de-la-bota.jpg
END:VEVENT
BEGIN:VEVENT
DTSTART;TZID=UTC:20221030T080000
DTEND;TZID=UTC:20221030T170000
DTSTAMP:20260422T054503
CREATED:20221019T202633Z
LAST-MODIFIED:20221019T202633Z
UID:16539-1667116800-1667149200@guatemalacvb.com
SUMMARY:From trash to treasure
DESCRIPTION:Por segundo año consecutivo\, Stare Vie  y Safe Passage / Camino Seguro en Guatemala han unido esfuerzos para crear un evento de moda (pasarela) que muestre lo mejor del talento de diseño de moda a nivel centroamericano.  Las creaciones que se presenten serán elaboradas por diseñadores de moda\, utilizando en buena parte\, desechos de basura.  Ellos han donado en un 100% sus creaciones. \nEl objetivo de este evento en particular es recaudar fondos para Camino Seguro\, entidad que desde hace más de 20 años está cambiando de manera holística la vida de niños/as y jóvenes en el área del vertedero sanitario en la zona 3. \nDonación Q 100. Para mayor información WhatsApp 5570-7857 \n#FTTT2022 #fromtrashtotreasure
URL:https://guatemalacvb.com/en/event/from-trash-to-treasure/
ATTACH;FMTTYPE=image/jpeg:https://guatemalacvb.com/wp-content/uploads/sites/46/2022/10/From-Trash-to-Treasure.jpeg
END:VEVENT
BEGIN:VEVENT
DTSTART;TZID=UTC:20221031T173000
DTEND;TZID=UTC:20221031T200000
DTSTAMP:20260422T054503
CREATED:20221028T234144Z
LAST-MODIFIED:20221028T234144Z
UID:16555-1667237400-1667246400@guatemalacvb.com
SUMMARY:
DESCRIPTION:No te pierdas este lunes 31 de octubre la Expo Arte & Turismo en el Centro. Una noche de arte y leyendas.\nEn el Museo Nacional de Historia\, zona 1 de la ciudad de Guatemala a partir de las 17:30 hrs.\n\nPara asistir a esta actividad debes registrarte en este link\, el cupo es limitado https://bit.ly/3sCNzhk\n\n\n\n#IndustriaDeReuniones #MeetingsGuatemala #Guatemala\n#EventosGuatemala
URL:https://guatemalacvb.com/en/event/16555/
ATTACH;FMTTYPE=image/jpeg:https://guatemalacvb.com/wp-content/uploads/sites/46/2022/10/Expo-Arte-Turismo.jpg
END:VEVENT
END:VCALENDAR