BEGIN:VCALENDAR
VERSION:2.0
PRODID:-//Buró de Convenciones de Guatemala - ECPv6.13.0//NONSGML v1.0//EN
CALSCALE:GREGORIAN
METHOD:PUBLISH
X-ORIGINAL-URL:https://guatemalacvb.com/en/
X-WR-CALDESC:Events for Buró de Convenciones de Guatemala
REFRESH-INTERVAL;VALUE=DURATION:PT1H
X-Robots-Tag:noindex
X-PUBLISHED-TTL:PT1H
BEGIN:VTIMEZONE
TZID:America/Guatemala
BEGIN:STANDARD
TZOFFSETFROM:-0600
TZOFFSETTO:-0600
TZNAME:CST
DTSTART:20240101T000000
END:STANDARD
END:VTIMEZONE
BEGIN:VEVENT
DTSTART;TZID=America/Guatemala:20241130T080000
DTEND;TZID=America/Guatemala:20241201T170000
DTSTAMP:20260422T054513
CREATED:20241127T171112Z
LAST-MODIFIED:20241127T171112Z
UID:17896-1732953600-1733072400@guatemalacvb.com
SUMMARY:Aprende Jugando
DESCRIPTION:¡Aprender nunca fue tan divertido! \nLa Asociación Bancaria de Guatemala te invita a la 10ma Feria Financiera en Familia\, “Aprende Jugando”. \nEste evento es una gran oportunidad para que los niños se adentren en el mundo de la educación financiera a través de juegos interactivos y talleres creativos. \n¡No te lo pierdas el 30 de noviembre y 1 de diciembre! \nMás información e inscripciones: https://www.feriafinanciera.gt/
URL:https://guatemalacvb.com/en/event/aprende-jugando/
ATTACH;FMTTYPE=image/png:https://guatemalacvb.com/wp-content/uploads/sites/46/2024/11/Feria-Financiera-2024.png
END:VEVENT
END:VCALENDAR