BEGIN:VCALENDAR
VERSION:2.0
PRODID:-//Buró de Convenciones de Guatemala - ECPv6.13.0//NONSGML v1.0//EN
CALSCALE:GREGORIAN
METHOD:PUBLISH
X-ORIGINAL-URL:https://guatemalacvb.com
X-WR-CALDESC:Eventos para Buró de Convenciones de Guatemala
REFRESH-INTERVAL;VALUE=DURATION:PT1H
X-Robots-Tag:noindex
X-PUBLISHED-TTL:PT1H
BEGIN:VTIMEZONE
TZID:UTC
BEGIN:STANDARD
TZOFFSETFROM:+0000
TZOFFSETTO:+0000
TZNAME:UTC
DTSTART:20220101T000000
END:STANDARD
END:VTIMEZONE
BEGIN:VEVENT
DTSTART;TZID=UTC:20220715T100000
DTEND;TZID=UTC:20220716T190000
DTSTAMP:20260421T023313
CREATED:20220713T045430Z
LAST-MODIFIED:20220713T045657Z
UID:16207-1657879200-1657998000@guatemalacvb.com
SUMMARY:10K la Leyenda
DESCRIPTION:Participa en la carrera y Expo 10K de Leyenda\nInscríbete y visita diferentes destinos alrededor de La #AntiguaGuatemala\n\n\nSe realizará los días:\nViernes 15 de  julio horario de 10:00 a 19:00 hrs.\nSábado 16 de julio horario de 9:00 a 13:00 hrs.\n\n\n\n\n\n#IndustriaDeReuniones #MeetingsGuatemala\n#Guatemala #EventosGuatemala
URL:https://guatemalacvb.com/event/10k-la-leyenda/
ATTACH;FMTTYPE=image/jpeg:https://guatemalacvb.com/wp-content/uploads/sites/46/2022/07/10K-de-Leyenda.jpg
END:VEVENT
END:VCALENDAR