BEGIN:VCALENDAR
VERSION:2.0
PRODID:-//Buró de Convenciones de Guatemala - ECPv6.13.0//NONSGML v1.0//EN
CALSCALE:GREGORIAN
METHOD:PUBLISH
X-ORIGINAL-URL:https://guatemalacvb.com
X-WR-CALDESC:Eventos para Buró de Convenciones de Guatemala
REFRESH-INTERVAL;VALUE=DURATION:PT1H
X-Robots-Tag:noindex
X-PUBLISHED-TTL:PT1H
BEGIN:VTIMEZONE
TZID:UTC
BEGIN:STANDARD
TZOFFSETFROM:+0000
TZOFFSETTO:+0000
TZNAME:UTC
DTSTART:20230101T000000
END:STANDARD
END:VTIMEZONE
BEGIN:VEVENT
DTSTART;VALUE=DATE:20230313
DTEND;VALUE=DATE:20230316
DTSTAMP:20260425T201922
CREATED:20230116T210917Z
LAST-MODIFIED:20230116T210917Z
UID:16869-1678665600-1678924799@guatemalacvb.com
SUMMARY:II Congreso Recursos Hídricos
DESCRIPTION:Asiste al II Congreso Nacional de Recursos Hídricos 2023\, organizado por el Fondo de Agua para la Región Metropolitana de Guatemala -FUNCAGUA-\n\nDel 13 al 15 de marzo 2023\nEn el hotel sede Westin Camino Real\nPara más información: (502) 2339 6382 o al correo: info@funcagua.org.gt\n\n\n#IndustriaDeReuniones #MeetingsGuatemala #Guatemala\n#EventosGuatemala #MeetingsMatter
URL:https://guatemalacvb.com/event/ii-congreso-recursos-hidricos/
ATTACH;FMTTYPE=image/jpeg:https://guatemalacvb.com/wp-content/uploads/sites/46/2023/01/II-Congreso-Recursos-Hidricos.jpg
END:VEVENT
BEGIN:VEVENT
DTSTART;TZID=UTC:20230315T083000
DTEND;TZID=UTC:20230315T093000
DTSTAMP:20260425T201922
CREATED:20230310T125133Z
LAST-MODIFIED:20230310T125133Z
UID:16958-1678869000-1678872600@guatemalacvb.com
SUMMARY:Adaptarse al cambio
DESCRIPTION:Participa en la conferencia «Adaptarse al cambio\, la necesidad actual para las organizaciones» la cual será ofrecida por nuestra invitada de honor Ruby E. Ortíz\, Directora del  Florida Institute of Management y Presidente de rubyortiz.com\n\nHora:\n08:30-09:30 am hora Guatemala/ CA / CDMX\n09:30-10:30 am hora Colombia / Florida\n11:30 am-12:30 pm hora Argentina / Chile\n15:30-16:30 horas\, España\n\nRegistro\nhttps://us02web.zoom.us/meeting/register/tZYld-mprTMoHdFNOk1hSRMX8tjIkXUU6Mg6 \n¡Te esperamos! \n\n\n#IndustriaDeReuniones #MeetingsGuatemala #Guatemala\n#EventosGuatemala #MeetingsMatter
URL:https://guatemalacvb.com/event/adaptarse-al-cambio/
ATTACH;FMTTYPE=image/png:https://guatemalacvb.com/wp-content/uploads/sites/46/2023/03/Adaptarse-al-cambio-.png
ORGANIZER;CN="Ruby E. Ortiz":MAILTO:rubyortiz.com
END:VEVENT
END:VCALENDAR