BEGIN:VCALENDAR
VERSION:2.0
PRODID:-//Buró de Convenciones de Guatemala - ECPv6.13.0//NONSGML v1.0//EN
CALSCALE:GREGORIAN
METHOD:PUBLISH
X-ORIGINAL-URL:https://guatemalacvb.com
X-WR-CALDESC:Eventos para Buró de Convenciones de Guatemala
REFRESH-INTERVAL;VALUE=DURATION:PT1H
X-Robots-Tag:noindex
X-PUBLISHED-TTL:PT1H
BEGIN:VTIMEZONE
TZID:America/Guatemala
BEGIN:STANDARD
TZOFFSETFROM:-0600
TZOFFSETTO:-0600
TZNAME:CST
DTSTART:20250101T000000
END:STANDARD
END:VTIMEZONE
BEGIN:VEVENT
DTSTART;VALUE=DATE:20251023
DTEND;VALUE=DATE:20251024
DTSTAMP:20260422T040819
CREATED:20250611T171014Z
LAST-MODIFIED:20250611T171346Z
UID:18179-1761177600-1761263999@guatemalacvb.com
SUMMARY:VII Congreso de Talento Humano
DESCRIPTION:No te pierdas el VII Congreso de Talento Humano\, un evento organizado por la Cámara de Industria de Guatemala que reunirá a los mejores expertos y líderes del sector. \nDurante este día\, podrás aprender las últimas estrategias y herramientas para mejorar la gestión del talento en tu organización\, fortalecer tu desarrollo profesional y potenciar la competitividad de tu empresa. \nFecha: jueves 23 de octubre \nLugar: Centro de Convenciones del Hotel Westin Camino Real \nMás información:  eventos@industriaguate.com | PBX: 2380-9000 Ext. 117/224
URL:https://guatemalacvb.com/event/vii-congreso-de-talento-humano/
LOCATION:Hotel Westin Camino Real\, Avenida la Reforma y 14 Calle\, Ciudad Guatemala\, Guatemala\, 01010\, Ciudad Guatemala\, Guatemala\, 01010\, Guatemala
ATTACH;FMTTYPE=image/png:https://guatemalacvb.com/wp-content/uploads/sites/46/2025/06/Congreso-Talento-Humano.png
END:VEVENT
END:VCALENDAR