BEGIN:VCALENDAR
VERSION:2.0
PRODID:-//Buró de Convenciones de Guatemala - ECPv6.13.0//NONSGML v1.0//EN
CALSCALE:GREGORIAN
METHOD:PUBLISH
X-WR-CALNAME:Buró de Convenciones de Guatemala
X-ORIGINAL-URL:https://guatemalacvb.com
X-WR-CALDESC:Eventos para Buró de Convenciones de Guatemala
REFRESH-INTERVAL;VALUE=DURATION:PT1H
X-Robots-Tag:noindex
X-PUBLISHED-TTL:PT1H
BEGIN:VTIMEZONE
TZID:UTC
BEGIN:STANDARD
TZOFFSETFROM:+0000
TZOFFSETTO:+0000
TZNAME:UTC
DTSTART:20230101T000000
END:STANDARD
END:VTIMEZONE
BEGIN:VEVENT
DTSTART;VALUE=DATE:20230807
DTEND;VALUE=DATE:20230812
DTSTAMP:20260423T083816
CREATED:20230114T032759Z
LAST-MODIFIED:20230114T032850Z
UID:16853-1691366400-1691798399@guatemalacvb.com
SUMMARY:Congreso ATACA - ATAGUA
DESCRIPTION:La Asociación de Técnicos Azucareros de Guatemala – ATAGUA – invitan a participar en el XXI Congreso ATACA y XV Congreso ATAGUA \, Caña de Azúcar cultivando una tecnología avanzada en la región. Se realizará del 7 al 11 de agosto 2023 en Hotel Casa Santo Domingo \n  \nMás información: \n(502) 55173978 \nadministración@atagua.org
URL:https://guatemalacvb.com/event/16853/
LOCATION:Hotel Casa Santo Domingo\, Guatemala
ATTACH;FMTTYPE=image/jpeg:https://guatemalacvb.com/wp-content/uploads/sites/46/2023/01/Congreso-ATACA-ATAGUA.jpg
END:VEVENT
BEGIN:VEVENT
DTSTART;VALUE=DATE:20230810
DTEND;VALUE=DATE:20230812
DTSTAMP:20260423T083816
CREATED:20230726T230138Z
LAST-MODIFIED:20230726T230138Z
UID:17256-1691625600-1691798399@guatemalacvb.com
SUMMARY:Festival Gastronómico Cultural de Alta Verapaz
DESCRIPTION:Participa en el Festival Gastronómico Cultural de Alta Verapaz.\nSe llevará a cabo en el parque Central La Paz\, Cobán A.V. el 10 y 11 de agosto \nEl Concurso Gastronómico se realizará el 10 de agosto\, donde pueden participar en cualquiera de las categorías y el Congreso Gastronómico se realizará el 11 de agosto en donde se tocarán temas retadores. \nMás información: (502) 5902 7607\nBúscalos en su página de facebook como: CAT – Camino Pokom\, Santa Cruz Verapaz
URL:https://guatemalacvb.com/event/festival-gastronomico-cultural-de-alta-verapaz/
ATTACH;FMTTYPE=image/jpeg:https://guatemalacvb.com/wp-content/uploads/sites/46/2023/07/1.-Festival-Gastronomico-Cultural.jpg
END:VEVENT
BEGIN:VEVENT
DTSTART;VALUE=DATE:20230829
DTEND;VALUE=DATE:20230901
DTSTAMP:20260423T083816
CREATED:20230721T230758Z
LAST-MODIFIED:20230721T230758Z
UID:17246-1693267200-1693526399@guatemalacvb.com
SUMMARY:11 Expo Congreso Seguridad y Salud Ocupacional
DESCRIPTION:¡Asiste al 11 Expo Congreso Seguridad y Salud Ocupacional!\nSe realizará del 29 al 31 de agosto\, evento 100% presencial en el Hotel Westin Camino Real\nAdquiere tu entrada: https://eventos.industriaguate.com/inscripcion/1162\nMás información: eventos@industriaguate.com | PBX: 2380-9000 Ext. 117/224
URL:https://guatemalacvb.com/event/11-expo-congreso-seguridad-y-salud-ocupacional/
ATTACH;FMTTYPE=image/jpeg:https://guatemalacvb.com/wp-content/uploads/sites/46/2023/07/11-Expo-Congreso-Seguridad.jpg
END:VEVENT
BEGIN:VEVENT
DTSTART;VALUE=DATE:20230831
DTEND;VALUE=DATE:20230902
DTSTAMP:20260423T083816
CREATED:20230801T215702Z
LAST-MODIFIED:20230801T215702Z
UID:17260-1693440000-1693612799@guatemalacvb.com
SUMMARY:Congreso ANDEGUAT
DESCRIPTION:Participa en el X Congreso Nacional – Asociación de Nutricionista de Guatemala 2023\, Los nuevos retos y tendencias de la Nutrición.\nUna mirada global hacia el cumplimiento de los objetivos del Desarrollo Sostenible 2030.\n\nEl 31 de agosto y el 1 de septiembre en el Hotel Westin Camino Real\n\nFecha máxima para inscribirse: 28 de agosto\nInscripciones y más información: eduacioncontinua@andeguat.org.gt
URL:https://guatemalacvb.com/event/congreso-andeguat/
ATTACH;FMTTYPE=image/jpeg:https://guatemalacvb.com/wp-content/uploads/sites/46/2023/08/1.-Congreso-ANDEGUAT-1.jpg
END:VEVENT
END:VCALENDAR