BEGIN:VCALENDAR
VERSION:2.0
PRODID:-//Buró de Convenciones de Guatemala - ECPv6.13.0//NONSGML v1.0//EN
CALSCALE:GREGORIAN
METHOD:PUBLISH
X-WR-CALNAME:Buró de Convenciones de Guatemala
X-ORIGINAL-URL:https://guatemalacvb.com
X-WR-CALDESC:Eventos para Buró de Convenciones de Guatemala
REFRESH-INTERVAL;VALUE=DURATION:PT1H
X-Robots-Tag:noindex
X-PUBLISHED-TTL:PT1H
BEGIN:VTIMEZONE
TZID:America/Guatemala
BEGIN:STANDARD
TZOFFSETFROM:-0600
TZOFFSETTO:-0600
TZNAME:CST
DTSTART:20240101T000000
END:STANDARD
END:VTIMEZONE
BEGIN:VEVENT
DTSTART;VALUE=DATE:20240610
DTEND;VALUE=DATE:20240612
DTSTAMP:20260419T235413
CREATED:20240528T170108Z
LAST-MODIFIED:20240528T170108Z
UID:17727-1717977600-1718150399@guatemalacvb.com
SUMMARY:Congreso Latinoamericano de Comercio Exterior - CLACE
DESCRIPTION:El Congreso Latinoamericano de Comercio Exterior – CLACE se ha posicionado\, durante las últimas décadas\, como el foro académico por excelencia de los directivos de los sectores bancarios y financieros encargados de otorgar financiamiento a las operaciones de comercio internacional del sector real latinoamericano \n\n\n\n\n\n\n\n\n\n\n\n\n\n\n\n\n\n\n\n\n\n\n\nEsta es tu oportunidad para actualizarte en los temas de tecnologías para el sector exterior\, Nearshoring y muchos temas más.\n\nMás información https://buff.ly/4bPf4sv
URL:https://guatemalacvb.com/event/congreso-latinoamericano-de-comercio-exterior-clace/
ATTACH;FMTTYPE=image/jpeg:https://guatemalacvb.com/wp-content/uploads/sites/46/2024/05/1.-XL-CLACE.jpg
END:VEVENT
BEGIN:VEVENT
DTSTART;VALUE=DATE:20240610
DTEND;VALUE=DATE:20240613
DTSTAMP:20260419T235413
CREATED:20240502T165028Z
LAST-MODIFIED:20240502T165028Z
UID:17692-1717977600-1718236799@guatemalacvb.com
SUMMARY:Business Future of the Americas
DESCRIPTION:El Business Future of the Americas es un espacio significativo para conocer las últimas tendencias en temas relevantes para la competitividad de la región\, además de networking y la construcción de alianzas comerciales en Latinoamérica y El Caribe.\nParticipa en este relevante evento del 10 al 12 de junio 2024 en Hotel CasaSanto Domingo\nMás información y registro https://bfa.gt/
URL:https://guatemalacvb.com/event/business-future-of-the-americas/
ATTACH;FMTTYPE=image/png:https://guatemalacvb.com/wp-content/uploads/sites/46/2024/05/BFA-2024.png
END:VEVENT
BEGIN:VEVENT
DTSTART;VALUE=DATE:20240620
DTEND;VALUE=DATE:20240621
DTSTAMP:20260419T235413
CREATED:20240524T171012Z
LAST-MODIFIED:20240524T171128Z
UID:17721-1718841600-1718927999@guatemalacvb.com
SUMMARY:II Foro de Eficiencia Energética 2024
DESCRIPTION:Asiste al II Foro de Eficiencia Energética 2024 \nSe realizará el jueves 20 de junio en el hotel Westin Camino Real. Organizado por la Cámara de Industria de Guatemala \nMás información: eventos@industriaguate.com o a los teléfonos: 2380-9000 Ext. 117 y 224 \nRegistro: https://eventos.industriaguate.com/inscripcion/1409?utm_source=BenchmarkEmail&utm_campaign=Agenda_-_EE2024&utm_medium=email
URL:https://guatemalacvb.com/event/foro-eficiencia-energetica/
ATTACH;FMTTYPE=image/png:https://guatemalacvb.com/wp-content/uploads/sites/46/2024/05/Foro-Eficiencia-Energetica.png
END:VEVENT
BEGIN:VEVENT
DTSTART;VALUE=DATE:20240624
DTEND;VALUE=DATE:20240628
DTSTAMP:20260419T235413
CREATED:20240610T165620Z
LAST-MODIFIED:20240610T165620Z
UID:17745-1719187200-1719532799@guatemalacvb.com
SUMMARY:5o. Congreso Nacional de Turismo Rural
DESCRIPTION:¡Asiste al 5o. Congreso Nacional de Turismo Rural!\nTu oportunidad para generar más negocios\, rutas y alianzas estratégicas. También habrá Networking empresarial\nDel 24 al 27 de junio en el departamento de Huehuetenango.\nMás información: Whatsapp (502) 3731 4498 o escribe a info@turismoruralguatemala.com
URL:https://guatemalacvb.com/event/5o-congreso-nacional-de-turismo-rural/
ATTACH;FMTTYPE=image/jpeg:https://guatemalacvb.com/wp-content/uploads/sites/46/2024/06/5o.-Congreso-Nacional-de-Turismo-Rural.jpg
END:VEVENT
END:VCALENDAR