BEGIN:VCALENDAR
VERSION:2.0
PRODID:-//Buró de Convenciones de Guatemala - ECPv6.13.0//NONSGML v1.0//EN
CALSCALE:GREGORIAN
METHOD:PUBLISH
X-WR-CALNAME:Buró de Convenciones de Guatemala
X-ORIGINAL-URL:https://guatemalacvb.com
X-WR-CALDESC:Eventos para Buró de Convenciones de Guatemala
REFRESH-INTERVAL;VALUE=DURATION:PT1H
X-Robots-Tag:noindex
X-PUBLISHED-TTL:PT1H
BEGIN:VTIMEZONE
TZID:America/Guatemala
BEGIN:STANDARD
TZOFFSETFROM:-0600
TZOFFSETTO:-0600
TZNAME:CST
DTSTART:20240101T000000
END:STANDARD
END:VTIMEZONE
BEGIN:VEVENT
DTSTART;VALUE=DATE:20240704
DTEND;VALUE=DATE:20240706
DTSTAMP:20260421T182346
CREATED:20240516T164242Z
LAST-MODIFIED:20240516T164242Z
UID:17712-1720051200-1720223999@guatemalacvb.com
SUMMARY:IV Congreso Nacional de Aguacate
DESCRIPTION:AGEXPORT te invita a participar al IV Congreso Nacional de Aguacate\, el evento más esperado del sector.\n4 y 5 de julio en Hotel Casa Santo Domingo\, en la histórica ciudad de La Antigua Guatemala\nMás información: (502) 2422 3400 http://www.export.com.gt
URL:https://guatemalacvb.com/event/iv-congreso-nacional-de-aguacate/
ATTACH;FMTTYPE=image/jpeg:https://guatemalacvb.com/wp-content/uploads/sites/46/2024/05/Congreso-Nacional-del-Aguacate.jpg
END:VEVENT
BEGIN:VEVENT
DTSTART;VALUE=DATE:20240724
DTEND;VALUE=DATE:20240727
DTSTAMP:20260421T182346
CREATED:20240704T164845Z
LAST-MODIFIED:20240704T164845Z
UID:17757-1721779200-1722038399@guatemalacvb.com
SUMMARY:XLII Congreso Nacional de Medicina Interna
DESCRIPTION:Únete a la comunidad médica en el XLII Congreso Nacional de Medicina Interna\, oportunidades de la Inteligencia Artificial en medicina interna\nDel 24 al 26 de julio en el Hotel Real InterContinental\nOrganizado por la Asociación de Medicina Interna de Guatemala\n\nCompra de entradas: https://www.amig.gt/congreso-2024/\n\nMás información: (502) 2360 5285 / 2360 5295\n\namigmedicinainterna@gmail.com
URL:https://guatemalacvb.com/event/xlii-congreso-nacional-de-medicina-interna/
ATTACH;FMTTYPE=image/jpeg:https://guatemalacvb.com/wp-content/uploads/sites/46/2024/07/Congreso-Medicina-Interna.jpg
END:VEVENT
END:VCALENDAR