BEGIN:VCALENDAR
VERSION:2.0
PRODID:-//Buró de Convenciones de Guatemala - ECPv6.13.0//NONSGML v1.0//EN
CALSCALE:GREGORIAN
METHOD:PUBLISH
X-ORIGINAL-URL:https://guatemalacvb.com
X-WR-CALDESC:Eventos para Buró de Convenciones de Guatemala
REFRESH-INTERVAL;VALUE=DURATION:PT1H
X-Robots-Tag:noindex
X-PUBLISHED-TTL:PT1H
BEGIN:VTIMEZONE
TZID:America/Guatemala
BEGIN:STANDARD
TZOFFSETFROM:-0600
TZOFFSETTO:-0600
TZNAME:CST
DTSTART:20240101T000000
END:STANDARD
END:VTIMEZONE
BEGIN:VEVENT
DTSTART;VALUE=DATE:20241107
DTEND;VALUE=DATE:20241109
DTSTAMP:20260422T053103
CREATED:20240313T164552Z
LAST-MODIFIED:20240313T164552Z
UID:17679-1730937600-1731110399@guatemalacvb.com
SUMMARY:Congreso Nacional de Avicultura
DESCRIPTION:¡Reserva la fecha para el Congreso Nacional de Avicultura! 7 y 8 de noviembre 2024.\nOrganizado por la Asociación Nacional de Avicultores Anavi\nEspera más información próximamente. \n#IndustriaDeReuniones #MeetingsGuatemala\n#Guatemala #TheEventProfessionalsJourney
URL:https://guatemalacvb.com/event/congreso-nacional-de-avicultura/
ATTACH;FMTTYPE=image/jpeg:https://guatemalacvb.com/wp-content/uploads/sites/46/2024/03/Congreso-Nacional-de-Avicultura.jpg
END:VEVENT
BEGIN:VEVENT
DTSTART;TZID=America/Guatemala:20241108T170000
DTEND;TZID=America/Guatemala:20241108T220000
DTSTAMP:20260422T053103
CREATED:20241029T210203Z
LAST-MODIFIED:20241029T210203Z
UID:17888-1731085200-1731103200@guatemalacvb.com
SUMMARY:Noche de los Museos
DESCRIPTION:¡Únete a la 13ª Edición de la Noche de los Museos! \nEste viernes 8 de noviembre\, de 17:00 a 22:00 hrs\, podrás disfrutar de la apertura gratuita \nde 32 museos de la ciudad. Es una oportunidad perfecta para explorar\, aprender y \ncompartir momentos inolvidables con tu familia y amigos. \n\n¿Te animas? Para más información ingresa aquí: https://nochedemuseos.org/ \n\n#Cultura #EventosGuatemala #ExploreGuatemala #NocheDeLosMuseos2024
URL:https://guatemalacvb.com/event/noche-de-los-museos/
ATTACH;FMTTYPE=image/png:https://guatemalacvb.com/wp-content/uploads/sites/46/2024/10/1.-Noche-de-los-museos.png
END:VEVENT
BEGIN:VEVENT
DTSTART;VALUE=DATE:20241110
DTEND;VALUE=DATE:20241114
DTSTAMP:20260422T053103
CREATED:20240806T171533Z
LAST-MODIFIED:20240806T171533Z
UID:17809-1731196800-1731542399@guatemalacvb.com
SUMMARY:XXIX Congreso de Aseguradores Centro América\, Panamá y El Caribe
DESCRIPTION:Asiste del 10 al 13 de noviembre de 2024 en La Antigua Guatemala al XXIX Congreso de Aseguradores Centro América\, Panamá y El Caribe. \nUn espacio único donde se reunirán líderes\, innovadores y profesionales del sector asegurador. \n📅 ¿Listo para la transformación del sector? \nNo te pierdas la oportunidad de conectar\, aprender y crecer con los mejores. \nInscríbete aquí: https://xxixcongresocentroamericano.com/ \n👉Más información aquí: (502) 2361-7067 info@agis.com.gt
URL:https://guatemalacvb.com/event/xxix-congreso-de-aseguradores-centro-america-panama-y-el-caribe/
ATTACH;FMTTYPE=image/png:https://guatemalacvb.com/wp-content/uploads/sites/46/2024/08/Congreso-de-Aseguradores.png
END:VEVENT
BEGIN:VEVENT
DTSTART;TZID=America/Guatemala:20241114T080000
DTEND;TZID=America/Guatemala:20241114T170000
DTSTAMP:20260422T053103
CREATED:20241015T171110Z
LAST-MODIFIED:20241015T171110Z
UID:17884-1731571200-1731603600@guatemalacvb.com
SUMMARY:Encuentro Forestal 2024
DESCRIPTION: ¡Los árboles son esenciales para nuestra seguridad alimentaria! \nNo solo nos ofrecen deliciosas frutas y nueces\, sino que también protegen el suelo y fomentan la biodiversidad. Aseguremos un futuro lleno de alimentos saludables y sostenibles. \nÚnete al Encuentro Forestal 2024 y descubre cómo cada árbol cuenta. \n Jueves 14 de noviembre de 2024 \n 08:00 – 17:00 horas \n @HotelTheWestinCaminoRealGuatemala \nReserva tu espacio: https://eventos.industriaguate.com/inscripcion/1608 \nMás información: eventos@industriaguate.com | 2380-9000 Ext. 117/224
URL:https://guatemalacvb.com/event/encuentro-forestal-2024/
ATTACH;FMTTYPE=image/jpeg:https://guatemalacvb.com/wp-content/uploads/sites/46/2024/10/Encuentro-Forestal-2024.jpg
END:VEVENT
BEGIN:VEVENT
DTSTART;TZID=America/Guatemala:20241114T080000
DTEND;TZID=America/Guatemala:20241114T180000
DTSTAMP:20260422T053103
CREATED:20241031T170150Z
LAST-MODIFIED:20241031T170150Z
UID:17891-1731571200-1731607200@guatemalacvb.com
SUMMARY:Encuentro Industrial de Oriente
DESCRIPTION:¡Marca en tu calendario el primer Encuentro Industrial de Oriente! \n\n Este evento será una excelente oportunidad para que empresarios\, autoridades\, \nacadémicos y profesionales de diversos sectores se reúnan\, intercambien experiencias y \ndescubran nuevas perspectivas y desafíos para nuestra industria. \n\n Súmate el jueves 14 de noviembre de 8:00 a 18:00 hrs y no te pierdas la oportunidad \nde ser parte de este enriquecedor encuentro. \n\nMás información: \nTeléfonos: (502) 4150 5048 / 7941 5409 \nCorreo: kcordon.filialoriente@industriaguate.com
URL:https://guatemalacvb.com/event/encuentro-industrial-de-oriente/
ATTACH;FMTTYPE=image/jpeg:https://guatemalacvb.com/wp-content/uploads/sites/46/2024/10/1ER.-EXPO-ENCUENTRO-INDUSTRIAL-ORIENTE.jpg
END:VEVENT
BEGIN:VEVENT
DTSTART;VALUE=DATE:20241115
DTEND;VALUE=DATE:20241116
DTSTAMP:20260422T053103
CREATED:20241014T164417Z
LAST-MODIFIED:20241014T164417Z
UID:17879-1731628800-1731715199@guatemalacvb.com
SUMMARY:III Simposio Guatemalteco de Pavimentos Asfálticos
DESCRIPTION:¡Atención a todos los profesionales de la construcción! \nNo te pierdas el III Simposio Guatemalteco de Pavimentos Asfálticos\, donde abordarán los desafíos y oportunidades en la construcción de carreteras. \nEste evento es una gran oportunidad para conocer los últimos avances en la industria y contribuir al «Rescate de la economía a través de la red vial nacional». \n¡Tu participación es clave! \n Fecha: Viernes\, 15 de noviembre de 2024 \n Lugar: Cámara Guatemalteca de la Construcción \nPre-regístrate aquí: https://forms.gle/rGQSYXAa2cWsnYir7 \nInformación e inscripciones: https://iag.org.gt/event/simposio-iag/ \nPara más información\, escribe a: capacitacion@iag.org.gt \nPara patrocinios comunicarse a: info@iag.org.gt / ebonilla@iag.org.gt
URL:https://guatemalacvb.com/event/iii-simposio-guatemalteco-de-pavimentos-asfalticos/
LOCATION:Cámara Guatemalteca de la Construcción.\, Guatemala\, Guatemala
ATTACH;FMTTYPE=image/jpeg:https://guatemalacvb.com/wp-content/uploads/sites/46/2024/10/III-Simposio-Guatemalteco-de-Pavimentos-y-Asfalticos.jpg
END:VEVENT
BEGIN:VEVENT
DTSTART;VALUE=DATE:20241118
DTEND;VALUE=DATE:20241119
DTSTAMP:20260422T053103
CREATED:20241007T190622Z
LAST-MODIFIED:20241007T202420Z
UID:17864-1731888000-1731974399@guatemalacvb.com
SUMMARY:IATA Aviation Day Guatemala
DESCRIPTION:Este evento reunirá a destacados líderes de la industria aérea y turística\, junto con autoridades del gobierno\, para debatir sobre los desafíos y oportunidades que enfrenta el sector en nuestro país. \nSerá la ocasión ideal para hacer networking y descubrir opciones de patrocinio para promover tus productos y servicios ante un público clave de aerolíneas y aeropuertos. \n Fecha: 18 de noviembre \n Lugar: @HotelRealIntercontinental \n Inversión: $100 \n¡No te lo pierdas! \nRegístrate aquí: https://events.bizzabo.com/ADGUATEMALA/home
URL:https://guatemalacvb.com/event/17864/
LOCATION:Hotel Real Intercontinental
ATTACH;FMTTYPE=image/jpeg:https://guatemalacvb.com/wp-content/uploads/sites/46/2024/10/AVIATION-DAY-GUATEMALA.jpeg
END:VEVENT
BEGIN:VEVENT
DTSTART;TZID=America/Guatemala:20241130T080000
DTEND;TZID=America/Guatemala:20241201T170000
DTSTAMP:20260422T053103
CREATED:20241127T171112Z
LAST-MODIFIED:20241127T171112Z
UID:17896-1732953600-1733072400@guatemalacvb.com
SUMMARY:Aprende Jugando
DESCRIPTION:¡Aprender nunca fue tan divertido! \nLa Asociación Bancaria de Guatemala te invita a la 10ma Feria Financiera en Familia\, «Aprende Jugando». \nEste evento es una gran oportunidad para que los niños se adentren en el mundo de la educación financiera a través de juegos interactivos y talleres creativos. \n¡No te lo pierdas el 30 de noviembre y 1 de diciembre! \nMás información e inscripciones: https://www.feriafinanciera.gt/
URL:https://guatemalacvb.com/event/aprende-jugando/
ATTACH;FMTTYPE=image/png:https://guatemalacvb.com/wp-content/uploads/sites/46/2024/11/Feria-Financiera-2024.png
END:VEVENT
END:VCALENDAR